BEGIN:VCALENDAR
VERSION:2.0
CREATED:20260423T051046Z
PRODID:-//Xponential Fitness\, Inc./Equisolve Calendar v1.0//EN
METHOD:PUBLISH
BEGIN:VEVENT
UID:05e1cfd16ec3f677e99c91b78c89a845
DTSTAMP:20260424T120743Z
DTSTART:20260507T203000Z
DTEND:20260507T213000Z
SUMMARY:Xponential Fitness\, Inc. First Quarter 2026 Earnings Conference Call
DESCRIPTION:Xponential Fitness\, Inc. First Quarter 2026 Earnings Conference Call\n\nDate: May 7\, 2026 4:30 pm EDT\n\nWebcast: https://event.choruscall.com/mediaframe/webcast.html?webcastid=KR07ACu1
END:VEVENT
END:VCALENDAR
